BEGIN:VCALENDAR
VERSION:2.0
PRODID:-//Clavier-Werke - ECPv6.9.0//NONSGML v1.0//EN
CALSCALE:GREGORIAN
METHOD:PUBLISH
X-WR-CALNAME:Clavier-Werke
X-ORIGINAL-URL:https://clavierwerke.com
X-WR-CALDESC:Events for Clavier-Werke
REFRESH-INTERVAL;VALUE=DURATION:PT1H
X-Robots-Tag:noindex
X-PUBLISHED-TTL:PT1H
BEGIN:VTIMEZONE
TZID:UTC
BEGIN:STANDARD
TZOFFSETFROM:+0000
TZOFFSETTO:+0000
TZNAME:UTC
DTSTART:20200101T000000
END:STANDARD
END:VTIMEZONE
BEGIN:VEVENT
DTSTART;VALUE=DATE:20251002
DTEND;VALUE=DATE:20260228
DTSTAMP:20260419T164853
CREATED:20131204T190114Z
LAST-MODIFIED:20260107T201726Z
UID:817-1759363200-1772236799@clavierwerke.com
SUMMARY:DECEMBER 2025
DESCRIPTION:Saturday\, 12/6 — ADMTA Hymn Festival at UT\, Music Building.\nSaturday\, 12/6 — ADMTA Piano Ensemble Festival at UT\, Music Building.\n**Fall Recital Times — 12/6\, 12/7\, 12/13\, 12/14 — full details below.\nWed.\, 12/10 — not a CW holiday for either location.\nFri.\, 12/19 — not a CW holiday for either location.\nSat.\, 12/20-Fri.\, 1/2 — Winter Break for West Lake Location. No regular lessons or theory classes.\nSun.\, 12/21-Sat.\, 1/3 — Winter Break for South Location. No regular lessons or theory classes.\nSaturday\, 1/3 — Spring semester begins\, West Lake location.\nSunday\, 1/4 — Spring semester begins\, South location. \n***Fall Recital Times:\nRecitals at Shepherd of the Hills\, 3525 Bee Cave Rd. (click for directions)\nSat. 12/6         2:00pm          Ryan Aguilar\, Dong-Yi Kim\, Maria Parrini\nSat. 12/6         3:30pm           Jake Holtzman\nSat. 12/6         5:00pm          Tim Jones\, Michael Lenahan\, Russell Reed\nSun. 12/7        2:00pm          Noah Chojnacki\, Younger grades\, TBD\nSun. 12/7        3:00pm          Noah Chojnacki\, Older grades\, TBD\nSun. 12/7        4:00pm          Jeanne Hourez and Gracie Godsby\nSat. 12/13        1:00pm          Seonju Jo\, Dmitriy Krasny\, Emily Singor\nSat. 12/13        2:00pm         Aaron Kurz\, Vivian Anderson\nSat. 12/13        3:15pm          Sarah Bryan\, Ellen Sirower\nSun. 12/14      1:45pm           Jimmy Berger\nSun. 12/14      3:00pm          Susan Allen   \n \nRecitals at Westlake United\, 1460 Redbud Trl. (click for directions)\nSat. 12/6         10:00am        Kelsey Sexton\nSat. 12/6         12:00pm        Andres Carrero\, Thomas Gougeon\nSat. 12/6          2:00pm         Felicia Kim\nSun. 12/7         2:00pm         Andres Vargas PreK-4th\nSun. 12/7         3:00pm         Andres Vargas 5th+\nSat. 12/13        10:00am        Rhiannon O’Brien\, Recital 1 (mic checks)\nSat. 12/13        10:30am        Rhiannon O’Brien\, Recital 1 (performance)\nSat. 12/13        11:30am         Rhiannon O’Brien\, Recital 2 (mic checks)\nSat. 12/13        12:00pm        Rhiannon O’Brien\, Recital 2 (performance)\nSat. 12/13        12:45pm        Kimberly Sandoval\, Kristine Mazziotti (mic checks)\nSat. 12/13        1:30pm          Kimberly Sandoval\, Kristine Mazziotti (performance)\nSat. 12/13        2:30pm         David Lester\, Gio Mera\, times teacher assigned (mic checks)\nSat. 12/13        3:15pm          David Lester\, Gio Mera\, times teacher assigned (perf.)\nSat. 12/13        4:15pm          Gio Mera\, times teacher assigned (mic checks)\nSat. 12/13        5:00pm         Gio Mera\, times teacher assigned (performance)\nSun. 12/14      2:00pm          Sean Riley\, Yvonne Ma\nSun. 12/14      3:30pm          Sean Riley\, Chloe Yofan\nSun. 12/14      5:00pm          Sean Riley\, Kyle Adams\nSun. 12/14      6:30pm          Daniel Kopp
URL:https://clavierwerke.com/event/december-2014/
END:VEVENT
BEGIN:VEVENT
DTSTART;VALUE=DATE:20250925
DTEND;VALUE=DATE:20260201
DTSTAMP:20260419T164853
CREATED:20170902T164436Z
LAST-MODIFIED:20251028T200002Z
UID:321-1758758400-1769903999@clavierwerke.com
SUMMARY:NOVEMBER 2025
DESCRIPTION:IMPORTANT DATES:\nSaturday\, 11/1 – ADMTA Adult Student Forum Fall Recital at Steinway Piano Gallery.\nTuesday\, 11/4 – this is a CW South holiday only. It is a regular lesson date for CW West Lake.\nMonday\, 11/10 – not a CW holiday. Regular lessons and theory classes will occur.\nWednesday\, 11/12 — TMTA Original Composition Contest entry deadline.\nSaturday\, 11/15 — ADMTA Solo Contest at UT\, Music Building.\nWednesday\, 11/19 — ADMTA Hymn Festival entry deadline.\nWednesday\, 11/19 — ADMTA Piano Ensemble Festival entry deadline.\nWednesday\, 11/19 — CW Fall Recital entry deadline.\nSun.-Sun.\, 11/23-11/30 — Thanksgiving Holidays for CW South\, no lessons or theory classes.\nMon.-Sun.\, 11/24-11/30 — Thanksgiving Holidays for CW West Lake\, no lessons or theory classes.
URL:https://clavierwerke.com/event/november-2013/
END:VEVENT
BEGIN:VEVENT
DTSTART;VALUE=DATE:20250815
DTEND;VALUE=DATE:20260101
DTSTAMP:20260419T164853
CREATED:20210731T120132Z
LAST-MODIFIED:20250925T221852Z
UID:815-1755216000-1767225599@clavierwerke.com
SUMMARY:OCTOBER 2025
DESCRIPTION:Wednesday\, 10/1 – TMTA Fall Theory Test entry deadline (most students wait for Spring.)\nSaturday\, 10/4 – ADMTA Jazz\, Pop and Rock festival at UT.\nWednesday\, 10/15 – ADMTA Adult Student Forum Fall Recital entry deadline.\nFriday\, 10/10 – not a CW holiday. Regular lessons and theory classes will occur.\nMonday\, 10/13 – not a CW holiday. Regular lessons and theory classes will occur.\nWednesday\, 10/29 – ADMTA Solo Contest entry deadline.\nThurs.-Fri.\, 10/30-31 – not a CW West Lake holiday. Regular lessons and theory classes will occur.\nFriday\, 10/31 – this is a CW South holiday only. It is a regular lesson date for CW West Lake.
URL:https://clavierwerke.com/event/october-2014/
END:VEVENT
BEGIN:VEVENT
DTSTART;VALUE=DATE:20250715
DTEND;VALUE=DATE:20251201
DTSTAMP:20260419T164853
CREATED:20200701T000106Z
LAST-MODIFIED:20250731T205550Z
UID:315-1752537600-1764547199@clavierwerke.com
SUMMARY:SEPTEMBER 2025
DESCRIPTION:Monday\, 9/1 – not a CW holiday. Regular lessons and theory classes will occur.\nWednesday\, 9/17 – ADMTA Jazz\, Pop and Rock festival entry deadline.
URL:https://clavierwerke.com/event/september-2015/
END:VEVENT
BEGIN:VEVENT
DTSTART;VALUE=DATE:20250701
DTEND;VALUE=DATE:20251101
DTSTAMP:20260419T164853
CREATED:20200601T000110Z
LAST-MODIFIED:20250731T205309Z
UID:312-1751328000-1761955199@clavierwerke.com
SUMMARY:AUGUST 2025
DESCRIPTION:Wednesday\, 8/13 – first official day of the Fall Semester.
URL:https://clavierwerke.com/event/august-2013/
END:VEVENT
BEGIN:VEVENT
DTSTART;VALUE=DATE:20250502
DTEND;VALUE=DATE:20250901
DTSTAMP:20260419T164853
CREATED:20210430T120146Z
LAST-MODIFIED:20250523T150054Z
UID:339-1746144000-1756684799@clavierwerke.com
SUMMARY:SUMMER 2025
DESCRIPTION:Monday\, 5/26 – First official day of the Summer Semester.\nMonday\, 7/1 – Tuition due for additional summer lessons and 2025-2026 annual registration.\nTuesday\, 8/12 – Final day of the Summer Semester.
URL:https://clavierwerke.com/event/june-2013/
END:VEVENT
BEGIN:VEVENT
DTSTART;TZID=UTC:20200501T000100
DTEND;TZID=UTC:20200930T170000
DTSTAMP:20260419T164853
CREATED:20151028T183107Z
LAST-MODIFIED:20200616T162111Z
UID:342-1588291260-1601485200@clavierwerke.com
SUMMARY:JULY 2020
DESCRIPTION:Monday\, 6/29 – Friday\, 7/10 – Composition Camp for Grades K-2.\nMonday\, 7/13 – Friday\, 7/24 – Composition Camp for Grades 7-12.
URL:https://clavierwerke.com/event/july-2014/
END:VEVENT
END:VCALENDAR